Package: swfdr Version: 1.37.0 Command: /Library/Frameworks/R.framework/Resources/bin/R CMD build --keep-empty-dirs --no-resave-data swfdr StartedAt: 2025-11-13 17:55:09 -0500 (Thu, 13 Nov 2025) EndedAt: 2025-11-13 17:55:31 -0500 (Thu, 13 Nov 2025) EllapsedTime: 22.3 seconds RetCode: 1 Status: ERROR PackageFile: None PackageFileSize: NA