Package: svaNUMT Version: 1.17.0 Command: /home/biocbuild/bbs-3.23-bioc/R/bin/R CMD build --keep-empty-dirs --no-resave-data svaNUMT StartedAt: 2025-11-14 20:24:35 -0500 (Fri, 14 Nov 2025) EndedAt: 2025-11-14 20:25:46 -0500 (Fri, 14 Nov 2025) EllapsedTime: 70.1 seconds RetCode: 0 Status: OK PackageFile: svaNUMT_1.17.0.tar.gz PackageFileSize: 813 KiB