Package: svaNUMT Version: 1.17.0 Command: /Library/Frameworks/R.framework/Resources/bin/R CMD INSTALL svaNUMT StartedAt: 2025-11-12 15:39:23 -0500 (Wed, 12 Nov 2025) EndedAt: 2025-11-12 15:39:39 -0500 (Wed, 12 Nov 2025) EllapsedTime: 16.2 seconds RetCode: 0 Status: OK