Package: svaNUMT Version: 1.17.0 Command: /Library/Frameworks/R.framework/Resources/bin/R CMD build --keep-empty-dirs --no-resave-data svaNUMT StartedAt: 2025-11-12 17:20:15 -0500 (Wed, 12 Nov 2025) EndedAt: 2025-11-12 17:20:46 -0500 (Wed, 12 Nov 2025) EllapsedTime: 31.4 seconds RetCode: 0 Status: OK PackageFile: svaNUMT_1.17.0.tar.gz PackageFileSize: 818.4 KiB