Package: svaNUMT Version: 1.17.0 Command: rm -rf svaNUMT.buildbin-libdir && mkdir svaNUMT.buildbin-libdir && /Users/biocbuild/BBS/utils/build-universal.sh svaNUMT_1.17.0.tar.gz /Library/Frameworks/R.framework/Resources/bin/R svaNUMT.buildbin-libdir StartedAt: 2025-11-13 23:59:02 -0500 (Thu, 13 Nov 2025) EndedAt: 2025-11-13 23:59:21 -0500 (Thu, 13 Nov 2025) EllapsedTime: 19.5 seconds RetCode: 0 Status: OK PackageFile: svaNUMT_1.17.0.tgz PackageFileSize: 754.9 KiB