Package: survcomp Version: 1.61.0 Command: /home/biocbuild/bbs-3.23-bioc/R/bin/R CMD INSTALL survcomp StartedAt: 2025-11-11 15:12:34 -0500 (Tue, 11 Nov 2025) EndedAt: 2025-11-11 15:12:45 -0500 (Tue, 11 Nov 2025) EllapsedTime: 10.5 seconds RetCode: 0 Status: OK