Package: survcomp Version: 1.61.0 Command: /Library/Frameworks/R.framework/Resources/bin/R CMD INSTALL survcomp StartedAt: 2025-11-12 15:19:33 -0500 (Wed, 12 Nov 2025) EndedAt: 2025-11-12 15:19:38 -0500 (Wed, 12 Nov 2025) EllapsedTime: 4.6 seconds RetCode: 0 Status: OK