Package: survcomp Version: 1.61.0 Command: /Library/Frameworks/R.framework/Resources/bin/R CMD build --keep-empty-dirs --no-resave-data survcomp StartedAt: 2025-11-12 17:20:11 -0500 (Wed, 12 Nov 2025) EndedAt: 2025-11-12 17:20:21 -0500 (Wed, 12 Nov 2025) EllapsedTime: 10.1 seconds RetCode: 0 Status: OK PackageFile: survcomp_1.61.0.tar.gz PackageFileSize: 638.2 KiB