Package: survcomp Version: 1.61.0 Command: rm -rf survcomp.buildbin-libdir && mkdir survcomp.buildbin-libdir && /Users/biocbuild/BBS/utils/build-universal.sh survcomp_1.61.0.tar.gz /Library/Frameworks/R.framework/Resources/bin/R survcomp.buildbin-libdir StartedAt: 2025-11-12 21:12:07 -0500 (Wed, 12 Nov 2025) EndedAt: 2025-11-12 21:12:13 -0500 (Wed, 12 Nov 2025) EllapsedTime: 6.1 seconds RetCode: 0 Status: OK PackageFile: survcomp_1.61.0.tgz PackageFileSize: 832.9 KiB