Package: survcomp Version: 1.61.0 Maintainer: Benjamin Haibe-Kains MaintainerEmail: benjamin.haibe.kains at utoronto.ca git_url: https://git.bioconductor.org/packages/survcomp git_branch: devel git_last_commit: e9375ea git_last_commit_date: 2025-10-29 10:07:15 -0500 (Wed, 29 Oct 2025)