Package: survClust Version: 1.5.0 Command: /Library/Frameworks/R.framework/Resources/bin/R CMD INSTALL survClust StartedAt: 2025-11-14 15:13:44 -0500 (Fri, 14 Nov 2025) EndedAt: 2025-11-14 15:13:55 -0500 (Fri, 14 Nov 2025) EllapsedTime: 10.6 seconds RetCode: 0 Status: OK