Package: subSeq Version: 1.41.0 Command: /home/biocbuild/bbs-3.23-bioc/R/bin/R CMD build --keep-empty-dirs --no-resave-data subSeq StartedAt: 2025-11-13 20:23:04 -0500 (Thu, 13 Nov 2025) EndedAt: 2025-11-13 20:23:40 -0500 (Thu, 13 Nov 2025) EllapsedTime: 36.0 seconds RetCode: 0 Status: OK PackageFile: subSeq_1.41.0.tar.gz PackageFileSize: 2.917 MiB