Package: subSeq Version: 1.41.0 Command: /Library/Frameworks/R.framework/Resources/bin/R CMD INSTALL subSeq StartedAt: 2025-11-13 15:07:42 -0500 (Thu, 13 Nov 2025) EndedAt: 2025-11-13 15:07:45 -0500 (Thu, 13 Nov 2025) EllapsedTime: 3.0 seconds RetCode: 0 Status: OK