Package: subSeq Version: 1.41.0 Maintainer: Andrew J. Bass , John D. Storey MaintainerEmail: jstorey at princeton.edu git_url: https://git.bioconductor.org/packages/subSeq git_branch: devel git_last_commit: 133fac9 git_last_commit_date: 2025-10-29 10:28:35 -0500 (Wed, 29 Oct 2025)