Package: structToolbox Version: 1.23.0 Command: /Library/Frameworks/R.framework/Resources/bin/R CMD build --keep-empty-dirs --no-resave-data structToolbox StartedAt: 2025-11-13 17:53:42 -0500 (Thu, 13 Nov 2025) EndedAt: 2025-11-13 17:57:46 -0500 (Thu, 13 Nov 2025) EllapsedTime: 243.8 seconds RetCode: 0 Status: OK PackageFile: structToolbox_1.23.0.tar.gz PackageFileSize: 4.934 MiB