Package: struct Version: 1.23.0 Command: /home/biocbuild/bbs-3.23-bioc/R/bin/R CMD INSTALL struct StartedAt: 2025-11-13 15:31:36 -0500 (Thu, 13 Nov 2025) EndedAt: 2025-11-13 15:32:02 -0500 (Thu, 13 Nov 2025) EllapsedTime: 25.6 seconds RetCode: 0 Status: OK