Package: struct Version: 1.23.0 Command: /home/biocbuild/bbs-3.23-bioc/R/bin/R CMD check --install=check:struct.install-out.txt --library=/home/biocbuild/bbs-3.23-bioc/R/site-library --timings struct_1.23.0.tar.gz StartedAt: 2025-11-24 04:31:59 -0500 (Mon, 24 Nov 2025) EndedAt: 2025-11-24 04:34:59 -0500 (Mon, 24 Nov 2025) EllapsedTime: 180.2 seconds RetCode: 0 Status: OK CheckDir: struct.Rcheck Warnings: 0