Package: struct Version: 1.23.0 Command: /Library/Frameworks/R.framework/Resources/bin/R CMD INSTALL struct StartedAt: 2025-11-13 15:18:33 -0500 (Thu, 13 Nov 2025) EndedAt: 2025-11-13 15:18:43 -0500 (Thu, 13 Nov 2025) EllapsedTime: 10.0 seconds RetCode: 0 Status: OK