Package: struct Version: 1.23.0 Command: /Library/Frameworks/R.framework/Resources/bin/R CMD build --keep-empty-dirs --no-resave-data struct StartedAt: 2025-11-14 17:50:32 -0500 (Fri, 14 Nov 2025) EndedAt: 2025-11-14 17:50:51 -0500 (Fri, 14 Nov 2025) EllapsedTime: 19.2 seconds RetCode: 0 Status: OK PackageFile: struct_1.23.0.tar.gz PackageFileSize: 604.4 KiB