Package: strandCheckR Version: 1.29.0 Command: /home/biocbuild/bbs-3.23-bioc/R/bin/R CMD INSTALL strandCheckR StartedAt: 2025-11-11 16:00:48 -0500 (Tue, 11 Nov 2025) EndedAt: 2025-11-11 16:01:27 -0500 (Tue, 11 Nov 2025) EllapsedTime: 38.4 seconds RetCode: 0 Status: OK