Package: strandCheckR Version: 1.29.0 Command: /home/biocbuild/bbs-3.23-bioc/R/bin/R CMD build --keep-empty-dirs --no-resave-data strandCheckR StartedAt: 2025-11-11 20:27:01 -0500 (Tue, 11 Nov 2025) EndedAt: 2025-11-11 20:28:02 -0500 (Tue, 11 Nov 2025) EllapsedTime: 61.0 seconds RetCode: 0 Status: OK PackageFile: strandCheckR_1.29.0.tar.gz PackageFileSize: 1.222 MiB