Package: strandCheckR Version: 1.29.0 Command: /Library/Frameworks/R.framework/Resources/bin/R CMD build --keep-empty-dirs --no-resave-data strandCheckR StartedAt: 2025-11-13 17:53:15 -0500 (Thu, 13 Nov 2025) EndedAt: 2025-11-13 17:53:45 -0500 (Thu, 13 Nov 2025) EllapsedTime: 29.3 seconds RetCode: 0 Status: OK PackageFile: strandCheckR_1.29.0.tar.gz PackageFileSize: 1.226 MiB