Package: strandCheckR Version: 1.29.0 Command: rm -rf strandCheckR.buildbin-libdir && mkdir strandCheckR.buildbin-libdir && /Users/biocbuild/BBS/utils/build-universal.sh strandCheckR_1.29.0.tar.gz /Library/Frameworks/R.framework/Resources/bin/R strandCheckR.buildbin-libdir StartedAt: 2025-11-12 21:11:58 -0500 (Wed, 12 Nov 2025) EndedAt: 2025-11-12 21:12:16 -0500 (Wed, 12 Nov 2025) EllapsedTime: 18.4 seconds RetCode: 0 Status: OK PackageFile: strandCheckR_1.29.0.tgz PackageFileSize: 1.31 MiB