Package: strandCheckR Version: 1.29.0 Maintainer: Thu-Hien To MaintainerEmail: tothuhien at gmail.com git_url: https://git.bioconductor.org/packages/strandCheckR git_branch: devel git_last_commit: b8130fd git_last_commit_date: 2025-10-29 10:46:35 -0500 (Wed, 29 Oct 2025)