Package: stepNorm Version: 1.83.0 Command: /home/biocbuild/bbs-3.23-bioc/R/bin/R CMD INSTALL stepNorm StartedAt: 2025-11-14 15:04:29 -0500 (Fri, 14 Nov 2025) EndedAt: 2025-11-14 15:04:49 -0500 (Fri, 14 Nov 2025) EllapsedTime: 19.6 seconds RetCode: 0 Status: OK