Package: stepNorm Version: 1.83.0 Command: /Library/Frameworks/R.framework/Resources/bin/R CMD INSTALL stepNorm StartedAt: 2025-11-14 15:02:44 -0500 (Fri, 14 Nov 2025) EndedAt: 2025-11-14 15:02:52 -0500 (Fri, 14 Nov 2025) EllapsedTime: 7.6 seconds RetCode: 0 Status: OK