Package: stepNorm Version: 1.83.0 Command: /Library/Frameworks/R.framework/Resources/bin/R CMD build --keep-empty-dirs --no-resave-data stepNorm StartedAt: 2025-11-14 17:50:14 -0500 (Fri, 14 Nov 2025) EndedAt: 2025-11-14 17:50:15 -0500 (Fri, 14 Nov 2025) EllapsedTime: 1.0 seconds RetCode: 0 Status: OK PackageFile: stepNorm_1.83.0.tar.gz PackageFileSize: 460.1 KiB