Package: stepNorm Version: 1.83.0 Command: rm -rf stepNorm.buildbin-libdir && mkdir stepNorm.buildbin-libdir && /Users/biocbuild/BBS/utils/build-universal.sh stepNorm_1.83.0.tar.gz /Library/Frameworks/R.framework/Resources/bin/R stepNorm.buildbin-libdir StartedAt: 2025-11-14 23:54:00 -0500 (Fri, 14 Nov 2025) EndedAt: 2025-11-14 23:54:03 -0500 (Fri, 14 Nov 2025) EllapsedTime: 3.1 seconds RetCode: 0 Status: OK PackageFile: stepNorm_1.83.0.tgz PackageFileSize: 554.4 KiB