Package: statTarget Version: 1.41.0 Command: /Library/Frameworks/R.framework/Resources/bin/R CMD INSTALL statTarget StartedAt: 2025-11-12 15:20:43 -0500 (Wed, 12 Nov 2025) EndedAt: 2025-11-12 15:20:50 -0500 (Wed, 12 Nov 2025) EllapsedTime: 7.7 seconds RetCode: 0 Status: OK