Package: statTarget Version: 1.41.0 Command: /Library/Frameworks/R.framework/Resources/bin/R CMD build --keep-empty-dirs --no-resave-data statTarget StartedAt: 2025-11-12 17:19:36 -0500 (Wed, 12 Nov 2025) EndedAt: 2025-11-12 17:19:42 -0500 (Wed, 12 Nov 2025) EllapsedTime: 5.1 seconds RetCode: 0 Status: OK PackageFile: statTarget_1.41.0.tar.gz PackageFileSize: 779.1 KiB