Package: statTarget Version: 1.41.0 Maintainer: Hemi Luan MaintainerEmail: hemi.luan at gmail.com git_url: https://git.bioconductor.org/packages/statTarget git_branch: devel git_last_commit: 47c118f git_last_commit_date: 2025-10-29 10:34:45 -0500 (Wed, 29 Oct 2025)