Package: standR Version: 1.15.0 Command: /Library/Frameworks/R.framework/Resources/bin/R CMD INSTALL standR StartedAt: 2025-11-14 15:27:51 -0500 (Fri, 14 Nov 2025) EndedAt: 2025-11-14 15:28:02 -0500 (Fri, 14 Nov 2025) EllapsedTime: 10.6 seconds RetCode: 0 Status: OK