Package: stageR Version: 1.33.0 Maintainer: Koen Van den Berge MaintainerEmail: koen.vdberge at gmail.com git_url: https://git.bioconductor.org/packages/stageR git_branch: devel git_last_commit: d375191 git_last_commit_date: 2025-10-29 10:41:45 -0500 (Wed, 29 Oct 2025)