Package: stPipe Version: 1.1.0 Command: /home/biocbuild/bbs-3.23-bioc/R/bin/R CMD build --keep-empty-dirs --no-resave-data stPipe StartedAt: 2025-11-13 20:21:56 -0500 (Thu, 13 Nov 2025) EndedAt: 2025-11-13 20:32:55 -0500 (Thu, 13 Nov 2025) EllapsedTime: 659.0 seconds RetCode: 0 Status: OK PackageFile: stPipe_1.1.0.tar.gz PackageFileSize: 5.844 MiB