Package: stPipe Version: 1.1.0 Command: /Library/Frameworks/R.framework/Resources/bin/R CMD INSTALL stPipe StartedAt: 2025-11-14 15:17:43 -0500 (Fri, 14 Nov 2025) EndedAt: 2025-11-14 15:18:00 -0500 (Fri, 14 Nov 2025) EllapsedTime: 17.5 seconds RetCode: 0 Status: OK