Package: stPipe Version: 1.1.0 Command: /Library/Frameworks/R.framework/Resources/bin/R CMD build --keep-empty-dirs --no-resave-data stPipe StartedAt: 2025-11-14 17:50:15 -0500 (Fri, 14 Nov 2025) EndedAt: 2025-11-14 17:59:14 -0500 (Fri, 14 Nov 2025) EllapsedTime: 538.1 seconds RetCode: 0 Status: OK PackageFile: stPipe_1.1.0.tar.gz PackageFileSize: 5.871 MiB