Package: stPipe Version: 1.1.0 Command: rm -rf stPipe.buildbin-libdir && mkdir stPipe.buildbin-libdir && /Users/biocbuild/BBS/utils/build-universal.sh stPipe_1.1.0.tar.gz /Library/Frameworks/R.framework/Resources/bin/R stPipe.buildbin-libdir StartedAt: 2025-11-14 23:54:03 -0500 (Fri, 14 Nov 2025) EndedAt: 2025-11-14 23:54:25 -0500 (Fri, 14 Nov 2025) EllapsedTime: 22.6 seconds RetCode: 0 Status: OK PackageFile: stPipe_1.1.0.tgz PackageFileSize: 7.045 MiB