Package: stPipe Version: 1.1.0 Maintainer: Yang Xu MaintainerEmail: xu.ya at wehi.edu.au git_url: https://git.bioconductor.org/packages/stPipe git_branch: devel git_last_commit: 3b726e3 git_last_commit_date: 2025-10-29 11:37:41 -0500 (Wed, 29 Oct 2025)