Package: ssviz Version: 1.45.0 Command: /home/biocbuild/bbs-3.23-bioc/R/bin/R CMD INSTALL ssviz StartedAt: 2025-11-13 15:16:34 -0500 (Thu, 13 Nov 2025) EndedAt: 2025-11-13 15:16:48 -0500 (Thu, 13 Nov 2025) EllapsedTime: 14.3 seconds RetCode: 0 Status: OK