Package: ssviz Version: 1.45.0 Command: /home/biocbuild/bbs-3.23-bioc/R/bin/R CMD build --keep-empty-dirs --no-resave-data ssviz StartedAt: 2025-11-13 20:21:16 -0500 (Thu, 13 Nov 2025) EndedAt: 2025-11-13 20:21:40 -0500 (Thu, 13 Nov 2025) EllapsedTime: 24.0 seconds RetCode: 0 Status: OK PackageFile: ssviz_1.45.0.tar.gz PackageFileSize: 1.154 MiB