Package: ssviz Version: 1.45.0 Command: /Library/Frameworks/R.framework/Resources/bin/R CMD INSTALL ssviz StartedAt: 2025-11-13 15:10:49 -0500 (Thu, 13 Nov 2025) EndedAt: 2025-11-13 15:10:55 -0500 (Thu, 13 Nov 2025) EllapsedTime: 5.8 seconds RetCode: 0 Status: OK