Package: ssviz Version: 1.45.0 Command: /Library/Frameworks/R.framework/Resources/bin/R CMD build --keep-empty-dirs --no-resave-data ssviz StartedAt: 2025-11-14 17:49:55 -0500 (Fri, 14 Nov 2025) EndedAt: 2025-11-14 17:50:08 -0500 (Fri, 14 Nov 2025) EllapsedTime: 13.2 seconds RetCode: 0 Status: OK PackageFile: ssviz_1.45.0.tar.gz PackageFileSize: 1.153 MiB