Package: ssviz Version: 1.45.0 Maintainer: Diana Low MaintainerEmail: lowdiana at gmail.com git_url: https://git.bioconductor.org/packages/ssviz git_branch: devel git_last_commit: ba9f121 git_last_commit_date: 2025-10-29 10:20:02 -0500 (Wed, 29 Oct 2025)