Package: ssize Version: 1.85.0 Command: /home/biocbuild/bbs-3.23-bioc/R/bin/R CMD INSTALL ssize StartedAt: 2025-11-13 15:03:06 -0500 (Thu, 13 Nov 2025) EndedAt: 2025-11-13 15:03:22 -0500 (Thu, 13 Nov 2025) EllapsedTime: 16.5 seconds RetCode: 0 Status: OK