Package: ssize Version: 1.85.0 Command: /home/biocbuild/bbs-3.23-bioc/R/bin/R CMD build --keep-empty-dirs --no-resave-data ssize StartedAt: 2025-11-14 20:21:20 -0500 (Fri, 14 Nov 2025) EndedAt: 2025-11-14 20:21:27 -0500 (Fri, 14 Nov 2025) EllapsedTime: 7.0 seconds RetCode: 0 Status: OK PackageFile: ssize_1.85.0.tar.gz PackageFileSize: 545.2 KiB