Package: ssize Version: 1.85.0 Command: /Library/Frameworks/R.framework/Resources/bin/R CMD INSTALL ssize StartedAt: 2025-11-13 15:01:54 -0500 (Thu, 13 Nov 2025) EndedAt: 2025-11-13 15:02:00 -0500 (Thu, 13 Nov 2025) EllapsedTime: 6.5 seconds RetCode: 0 Status: OK