Package: ssize Version: 1.85.0 Command: /Library/Frameworks/R.framework/Resources/bin/R CMD build --keep-empty-dirs --no-resave-data ssize StartedAt: 2025-11-14 17:49:49 -0500 (Fri, 14 Nov 2025) EndedAt: 2025-11-14 17:49:53 -0500 (Fri, 14 Nov 2025) EllapsedTime: 4.1 seconds RetCode: 0 Status: OK PackageFile: ssize_1.85.0.tar.gz PackageFileSize: 545.3 KiB