Package: ssize Version: 1.85.0 Maintainer: Gregory R. Warnes MaintainerEmail: greg at random-technologies-llc.com git_url: https://git.bioconductor.org/packages/ssize git_branch: devel git_last_commit: 0dfd5e9 git_last_commit_date: 2025-10-29 09:56:31 -0500 (Wed, 29 Oct 2025)