Package: sscu Version: 2.41.0 Command: /home/biocbuild/bbs-3.23-bioc/R/bin/R CMD INSTALL sscu StartedAt: 2025-11-23 15:16:11 -0500 (Sun, 23 Nov 2025) EndedAt: 2025-11-23 15:16:20 -0500 (Sun, 23 Nov 2025) EllapsedTime: 9.5 seconds RetCode: 0 Status: OK