Package: sscu Version: 2.41.0 Command: /home/biocbuild/bbs-3.23-bioc/R/bin/R CMD build --keep-empty-dirs --no-resave-data sscu StartedAt: 2025-11-23 20:20:03 -0500 (Sun, 23 Nov 2025) EndedAt: 2025-11-23 20:20:18 -0500 (Sun, 23 Nov 2025) EllapsedTime: 15.0 seconds RetCode: 0 Status: OK PackageFile: sscu_2.41.0.tar.gz PackageFileSize: 1.287 MiB